BEGIN:VCALENDAR
VERSION:2.0
PRODID:-//wp-events-plugin.com//7.2.3.1//EN
BEGIN:VEVENT
UID:21a349e5-cf87-4925-b64d-3b5058e68952
DTSTART:20180630T113000Z
DTEND:20180630T123000Z
DTSTAMP:20190112T184542Z
SUMMARY:Sharif Gemie and Brian Ireland - The Hippie Trail
X-FBF-PRICE:9
X-FBF-CON-PRICE:7
X-FBF-CHILD-PRICE:
X-FBF-EVENT-CAPACITY:50
X-FBF-BOOKING-URL:
DESCRIPTION:Authors Sharif Gemie and Brian Ireland share the stories in their book The Hippie Trail recounting the joys and pains of budget travel to Kathmandu\, India\, Afghanistan and other 'points east' in the 1960s and 1970s.\nA must for anyone interested in the Trail or the 1960s counterculture.\nChaired  by Rachel Sloane\n\n\n
LOCATION:Orwell Hotel - His Lordship's Library\, Hamilton Road\, Felixstowe\, United Kingdom
URL:https://felixstowebookfestival.co.uk/events/11-2
END:VEVENT
END:VCALENDAR