BEGIN:VCALENDAR
VERSION:2.0
PRODID:-//wp-events-plugin.com//7.2.3.1//EN
BEGIN:VEVENT
UID:0754bcef-aaeb-4f2a-b154-75df4c8c8bb3
DTSTART:20180630T133000Z
DTEND:20180630T143000Z
DTSTAMP:20190112T180553Z
SUMMARY:Christopher Matthew - The Old Man And the Knee
X-FBF-PRICE:9
X-FBF-CON-PRICE:7
X-FBF-CHILD-PRICE:
X-FBF-EVENT-CAPACITY:200
X-FBF-BOOKING-URL:
DESCRIPTION:[caption id="attachment_4618" align="alignright" width="172"] Photo: William Matthew[/caption]\nAlthough in his late seventies\, Christopher Matthew feels he is still enjoying late middle age and making the best of while he can. In his new book\, he offers a guide to life in the last lane and suggests that oldies may have more to look forward to than they might imagine.\n&nbsp\;
LOCATION:Orwell Hotel - Elizabeth Suite\, Hamilton Road\, Felixstowe\, IP11 7DX\, United Kingdom
URL:https://felixstowebookfestival.co.uk/events/13-2
END:VEVENT
END:VCALENDAR