BEGIN:VCALENDAR
VERSION:2.0
PRODID:-//wp-events-plugin.com//7.2.3.1//EN
BEGIN:VEVENT
UID:fa935140-f2b2-4de8-8b7d-b6f781e5bde5
DTSTART:20170701T140000Z
DTEND:20170701T163000Z
DTSTAMP:20170405T202303Z
SUMMARY:An Afternoon of Romance
X-FBF-PRICE:15
X-FBF-CON-PRICE:
X-FBF-CHILD-PRICE:
X-FBF-EVENT-CAPACITY:50
X-FBF-BOOKING-URL:113528
DESCRIPTION:[caption id="attachment_3989" align="alignleft" width="137"] Jan Jones\, photo credit: Marte Lundby Rekaa[/caption]\n\nJulia Jones will be thinking about Jane Austen as Chick-Lit. Kate Hardy will tell us what it is like to be a Mills and Boon author. Jan Jones\, a writer of Regency novels\, will be talking to us about her writing life and the Romantic Novelists' Association. Round off the afternoon with a cup of tea and a scone (included in the ticket price) and the chance to chat to the authors. Session chaired by Elaine Simpson-Long.
LOCATION:Orwell Hotel - His Lordship's Library\, Hamilton Road\, Felixstowe\, United Kingdom
URL:https://felixstowebookfestival.co.uk/events/14a
END:VEVENT
END:VCALENDAR