BEGIN:VCALENDAR
VERSION:2.0
PRODID:-//wp-events-plugin.com//7.2.3.1//EN
BEGIN:VEVENT
UID:f160b147-53d7-4eff-a854-388571a3f848
DTSTART:20180630T143000Z
DTEND:20180630T153000Z
DTSTAMP:20190112T181145Z
SUMMARY:Kate Hamer and Alex Hourston
X-FBF-PRICE:9
X-FBF-CON-PRICE:7
X-FBF-CHILD-PRICE:
X-FBF-EVENT-CAPACITY:50
X-FBF-BOOKING-URL:
DESCRIPTION: Join Costa-shortlisted author Kate Hamer and acclaimed novelist Alex Hourston as they discuss their latest works The Doll Funeral  and Love After Love.\nThe Doll Funeral is a dark\, glittering tale following an otherworldly girl hunting for a lost family.\nLove After Love is a stylish\, sophisticated adultery story on a woman’s clashing\, overlapping roles in and out of the household.\nChaired by Rachel Sloane\n\n\n[caption id="attachment_4627" align="alignleft" width="152"] Photo: Jonathan Ring[/caption]\n\n[caption id="attachment_4630" align="alignright" width="249"] Photo: Mei Williams[/caption]
LOCATION:Orwell Hotel - His Lordship's Library\, Hamilton Road\, Felixstowe\, United Kingdom
URL:https://felixstowebookfestival.co.uk/events/15-2
END:VEVENT
END:VCALENDAR