BEGIN:VCALENDAR
VERSION:2.0
PRODID:-//wp-events-plugin.com//7.2.3.1//EN
BEGIN:VEVENT
UID:6b01ba31-aa5d-402f-9e82-37c0adef51ca
DTSTART:20170701T161500Z
DTEND:20170701T174500Z
DTSTAMP:20170405T202427Z
SUMMARY:Short Story Workshop led by Emma Kittle-Pey
X-FBF-PRICE:8
X-FBF-CON-PRICE:7
X-FBF-CHILD-PRICE:
X-FBF-EVENT-CAPACITY:
X-FBF-BOOKING-URL:113927
DESCRIPTION:Emma Kittle-Pey has had two collections of short fiction published and is working on a short story cycle for her PhD at the University of Essex. In this workshop she will discuss the elements of crafting a short story\, using contemporary examples to illustrate her points. She will provide inspiring writing activities to encourage your own writing\, and help to critique and polish your final piece. Read aloud at the open mic night…or keep for yourself!
LOCATION:The Orwell Hotel - Furneaux Suite\, Hamilton Road\, Felixstowe\, Suffolk\, United Kingdom
URL:https://felixstowebookfestival.co.uk/events/16a
END:VEVENT
END:VCALENDAR