BEGIN:VCALENDAR
VERSION:2.0
PRODID:-//wp-events-plugin.com//7.2.3.1//EN
BEGIN:VEVENT
UID:3e9a2b2f-7830-48cd-99f9-4b0566b3c244
DTSTART:20180630T150000Z
DTEND:20180630T160000Z
DTSTAMP:20190112T181339Z
SUMMARY:Damian Le Bas - The Stopping Places
X-FBF-PRICE:9
X-FBF-CON-PRICE:7
X-FBF-CHILD-PRICE:
X-FBF-EVENT-CAPACITY:45
X-FBF-BOOKING-URL:
DESCRIPTION:[caption id="attachment_4635" align="alignleft" width="139"] Photo: Nino Pusija[/caption]\nDamian Le Bas is a poet and author from a large Gypsy Traveller family. His first book\, The Stopping Places - about a year-long quest in his van to find the ancient Gypsy sites of Britain - won a Royal Society of Literature Jerwood Award and will be published by Chatto &amp\; Windus in 2018.
LOCATION:The Orwell Hotel - Furneaux Suite\, Hamilton Road\, Felixstowe\, Suffolk\, United Kingdom
URL:https://felixstowebookfestival.co.uk/events/17-2
END:VEVENT
END:VCALENDAR