BEGIN:VCALENDAR
VERSION:2.0
PRODID:-//wp-events-plugin.com//7.2.3.1//EN
BEGIN:VEVENT
UID:cdd60137-6663-4217-a18e-ffafa0bc7d1e
DTSTART:20190630T113000Z
DTEND:20190630T123000Z
DTSTAMP:20190405T194044Z
SUMMARY:Jane Thynne - Clara Vine: Life of women in the Third Reich
X-FBF-PRICE:9
X-FBF-CON-PRICE:7
X-FBF-CHILD-PRICE:5
X-FBF-EVENT-CAPACITY:45
X-FBF-BOOKING-URL:203929
DESCRIPTION:\n\n\nThe SS\, Spies and Seduction: Women  in the Third Reich\nWhat was it like to be married to a senior Nazi? Or be an ordinary German woman in pre-war Berlin\, where everything from fashion and make-up to marriage and child rearing was minutely controlled?\nFind out in Jane Thynne's fascinating novels about Clara Vine\, Anglo-German actress and British agent\, who treads a dangerous path through the private life of the Third Reich.\nChaired by Julia Jones.\n\n\n\n
LOCATION:The Orwell Hotel - Furneaux Suite\, Hamilton Road\, Felixstowe\, Suffolk\, United Kingdom
URL:https://felixstowebookfestival.co.uk/events/19-12
END:VEVENT
END:VCALENDAR