BEGIN:VCALENDAR
VERSION:2.0
PRODID:-//wp-events-plugin.com//7.2.3.1//EN
BEGIN:VEVENT
UID:94ce1ab9-9e8e-4afc-b662-1ecfd302ed2d
DTSTART:20190628T140000Z
DTEND:20190628T153000Z
DTSTAMP:20190603T093603Z
SUMMARY:Starting to Write Later in Life - Pamela Homes/ Sorry\, sold out
X-FBF-PRICE:7
X-FBF-CON-PRICE:
X-FBF-CHILD-PRICE:
X-FBF-EVENT-CAPACITY:12
X-FBF-BOOKING-URL:203729
DESCRIPTION:Pamela Holmes's first novel was published when she was 60 and her second hit the bookshops two years later. If you've always harboured a wish to start writing but perhaps wonder if it's a bit late\, come to her workshop for inspiration and ideas to get going.\n\nThemes:\n\n 	Abandoning blocks to creativity – where did our confidence go?\n 	Thinking like a writer - using your senses and experience\n 	The joy of writing - tips on getting started\n\n\n\nPamela Holmes was born in Charleston\, South Carolina and moved to England when she was eight years old.  She's lived on a Somerset commune\, worked as nurse and on-screen reporter and sings in a rock band.  In 2014\, she won the Jane Austen Short Story Award.  Her novels The Huntingfield Paintress (2016) and Wyld Dreamers (2018) are published by Urbane.
LOCATION:The Orwell Hotel\, Hamilton Road\, Felixstowe\, Suffolk\, United Kingdom
URL:https://felixstowebookfestival.co.uk/events/19-47
END:VEVENT
END:VCALENDAR