BEGIN:VCALENDAR
VERSION:2.0
PRODID:-//wp-events-plugin.com//7.2.3.1//EN
BEGIN:VEVENT
UID:0369fbc7-115a-4c3d-8eb6-380caccca5bc
DTSTART:20180701T121500Z
DTEND:20180701T131500Z
DTSTAMP:20190112T182946Z
SUMMARY:Iain Maitland and Humphrey Hawksley- Two very different thrillers....
X-FBF-PRICE:9
X-FBF-CON-PRICE:7
X-FBF-CHILD-PRICE:
X-FBF-EVENT-CAPACITY:50
X-FBF-BOOKING-URL:
DESCRIPTION: Two very different thrillers.... In Sweet William an aggrieved father separated from his precious child will do anything to get him back. In Man on Ice an incident in the snows of Alaska could trigger the outbreak of World War III and a small island community is suddenly caught between sabre-rattling big powers.\n\n[caption id="attachment_4660" align="alignleft" width="214"] Humphrey Hawksley by Jeff Overs BBC[/caption]\n\nChaired by Richard Walker\n\nThis event is kindly sponsored by 
LOCATION:Orwell Hotel - His Lordship's Library\, Hamilton Road\, Felixstowe\, United Kingdom
URL:https://felixstowebookfestival.co.uk/events/27-2
END:VEVENT
END:VCALENDAR