BEGIN:VCALENDAR
VERSION:2.0
PRODID:-//wp-events-plugin.com//7.2.3.1//EN
BEGIN:VEVENT
UID:b3a25998-9e3e-4cc3-be2c-55d9f8bf678b
DTSTART:20180701T123000Z
DTEND:20180701T133000Z
DTSTAMP:20180629T094323Z
SUMMARY:Nikesh Shukla - The One Who Wrote Destiny - CANCELLED
X-FBF-PRICE:9
X-FBF-CON-PRICE:7
X-FBF-CHILD-PRICE:
X-FBF-EVENT-CAPACITY:45
X-FBF-BOOKING-URL:
DESCRIPTION: Nikesh Shukla is a writer and social commentator. He is the editor of the essay collection\, The Good Immigrant\, where 21 British Writers of colour discuss race and immigration in the UK.\n\nHis latest novel\, The One Who Wrote Destiny\, is a witty and wise novel about three generations of the same family\, riven by feuds and falling outs\, united by fates and fortunes.\n\nChaired by Lucy Popescu\n\nUNFORTUNATELY THIS EVENT HAD TO BE CANCELLED AS THE AUTHOR WON'T BE ABLE TO ATTEND FOR PERSONAL REASONS.\n\nSHOULD YOU HAVE OBTAINED TICKETS FOR THIS EVENT PLEASE GET IN TOUCH WITH THE WOLSEY OR COME AND SEE US AT THE BOX OFFICE ON THE DAY EITHER SWAP THEM FOR ANOTHER EVENT OR FOR A REFUND.
LOCATION:The Orwell Hotel - Furneaux Suite\, Hamilton Road\, Felixstowe\, Suffolk\, United Kingdom
URL:https://felixstowebookfestival.co.uk/events/28-2
END:VEVENT
END:VCALENDAR