BEGIN:VCALENDAR
VERSION:2.0
PRODID:-//wp-events-plugin.com//7.2.3.1//EN
BEGIN:VEVENT
UID:2cb80e7b-95eb-491b-b719-c823e0c43edd
DTSTART:20180701T133000Z
DTEND:20180701T143000Z
DTSTAMP:20190112T183100Z
SUMMARY:Mark Billingham - The Killing Habit (Tom Thorne)
X-FBF-PRICE:9
X-FBF-CON-PRICE:7
X-FBF-CHILD-PRICE:
X-FBF-EVENT-CAPACITY:200
X-FBF-BOOKING-URL:
DESCRIPTION:[caption id="attachment_4665" align="alignleft" width="162"] Photo by Charlie Hopkinson[/caption]\n\nMark Billingham's first crime novel\, Sleepyhead\, was an instant bestseller when it was published in 2001. It was later singled out the The Times as one of the novels that had shaped the decade.\n\nMark is best known for his series featuring London-based detective Tom Thorne. His latest Thorne novel\, The Killing Habit\, was published in June 2018.\n\nMark will be in conversation with Nicola Upson.\nThis event is kindly sponsored by:\n\n&nbsp\;
LOCATION:Orwell Hotel - Elizabeth Suite\, Hamilton Road\, Felixstowe\, IP11 7DX\, United Kingdom
URL:https://felixstowebookfestival.co.uk/events/29-2
END:VEVENT
END:VCALENDAR