BEGIN:VCALENDAR
VERSION:2.0
PRODID:-//wp-events-plugin.com//7.2.3.1//EN
BEGIN:VEVENT
UID:85802f36-7aa9-450b-8c02-5eb8e375a1e4
DTSTART:20170701T160000Z
DTEND:20170701T170000Z
DTSTAMP:20170421T143756Z
SUMMARY:Beth Miller: For the love of Shakespeare
X-FBF-PRICE:8
X-FBF-CON-PRICE:7
X-FBF-CHILD-PRICE:
X-FBF-EVENT-CAPACITY:180
X-FBF-BOOKING-URL:96127
DESCRIPTION:&nbsp\;\n\n[caption id="attachment_4069" align="alignleft" width="230"] photo credit: Katie Vandyck[/caption]\n\nThis masterful miscellany full of fascinating insights is described by Shakespeare scholar Sir Stanley Wells as 'Well informed\, wide-ranging\, undogmatic and reader-friendly\, this agreeably written book offers a highly accessible and enticing guide to Shakespeare's life\, his writings\, and his impact\, which will give pleasure to those who already enjoy the plays and poems and may well help others to see what they are missing.'\n\nBeth will join us to talk about the book\, the authorship controversy and about Shakespeare and herself as writers of fiction\, and why she is certain that\, despite rival claims\,  Shakespeare really was the  author of the plays.\n
LOCATION:Orwell Hotel - Elizabeth Suite\, Hamilton Road\, Felixstowe\, IP11 7DX\, United Kingdom
URL:https://felixstowebookfestival.co.uk/events/2a
END:VEVENT
END:VCALENDAR