BEGIN:VCALENDAR
VERSION:2.0
PRODID:-//wp-events-plugin.com//7.2.3.1//EN
BEGIN:VEVENT
UID:f6cc2035-4977-4509-a199-687579a69667
DTSTART:20180627T180000Z
DTEND:20180627T190000Z
DTSTAMP:20190112T170938Z
SUMMARY:Amanda Craig - The Lie of the Land
X-FBF-PRICE:9
X-FBF-CON-PRICE:7
X-FBF-CHILD-PRICE:
X-FBF-EVENT-CAPACITY:60
X-FBF-BOOKING-URL:
DESCRIPTION:[caption id="attachment_4583" align="alignright" width="134"] Photo: Marzena Pogorzaly[/caption]\nA funny\, moving and brilliantly characterised novel about what happens when the metropolitan dream goes sour.\nA suspenseful black comedy\, this is a rich\, compassionate and enthralling novel in its depiction of the English countryside\, and the potentially lethal interplay between money and marriage. \nChaired by Julia Jones\nPLEASE NOTE: Due to access restrictions to the building this event can only be attended when pre-booked. There will be no tickets available on the night.\n\n\n
LOCATION:Harvest House - The Palm Court Room\, Cobbold Road\, FELIXSTOWE\, IP11 7SP\, United Kingdom
URL:https://felixstowebookfestival.co.uk/events/3-2
END:VEVENT
END:VCALENDAR