BEGIN:VCALENDAR
VERSION:2.0
PRODID:-//wp-events-plugin.com//7.2.3.1//EN
BEGIN:VEVENT
UID:e9bb8385-61fe-4574-9952-f8a325e2bd9b
DTSTART:20180701T134500Z
DTEND:20180701T144500Z
DTSTAMP:20190112T183206Z
SUMMARY:Liz Trenow - In Love and War
X-FBF-PRICE:9
X-FBF-CON-PRICE:7
X-FBF-CHILD-PRICE:
X-FBF-EVENT-CAPACITY:50
X-FBF-BOOKING-URL:
DESCRIPTION:&nbsp\;\n\n Liz Trenow's new novel\, In Love and War\, marks 100 years since the end of WW1. It follows three women from very different backgrounds but united in their search for reconciliation who embark on one of the controversial 'battlefield tours' to the devastated lands of Flanders and The Somme\, desperately seeking news of their lost loved ones.
LOCATION:Orwell Hotel - His Lordship's Library\, Hamilton Road\, Felixstowe\, United Kingdom
URL:https://felixstowebookfestival.co.uk/events/30-2
END:VEVENT
END:VCALENDAR