BEGIN:VCALENDAR
VERSION:2.0
PRODID:-//wp-events-plugin.com//7.2.3.1//EN
BEGIN:VEVENT
UID:b14c69b0-a132-44dc-a39e-c89f5280f7ec
DTSTART:20180701T151500Z
DTEND:20180701T161500Z
DTSTAMP:20190112T185036Z
SUMMARY:Quentin Bates with Barbara Nadel: Crime Writing as a Window of the World
X-FBF-PRICE:9
X-FBF-CON-PRICE:7
X-FBF-CHILD-PRICE:
X-FBF-EVENT-CAPACITY:50
X-FBF-BOOKING-URL:
DESCRIPTION:[caption id="attachment_4678" align="alignright" width="178"] Photo: Roger Dean[/caption]\n\nQuentin Bates is the author of a series of crime novels set in Iceland\, including the latest in the series\, Thin Ice. \n\nBarbara Nadel is the author of the Turkish Cetin Ikmen crime series and the East London based Hakim and Arnold novels.\n\nChaired by Rachel Sloane\n\n[caption id="attachment_4677" align="alignnone" width="240"] Photo: Tony Prower[/caption]\n\n&nbsp\;
LOCATION:Orwell Hotel - His Lordship's Library\, Hamilton Road\, Felixstowe\, United Kingdom
URL:https://felixstowebookfestival.co.uk/events/33-2
END:VEVENT
END:VCALENDAR