BEGIN:VCALENDAR
VERSION:2.0
PRODID:-//wp-events-plugin.com//7.2.3.1//EN
BEGIN:VEVENT
UID:6b65616e-b75d-4aa3-910f-4117fe9020a1
DTSTART:20180701T163000Z
DTEND:20180701T173000Z
DTSTAMP:20190112T183813Z
SUMMARY:Blake Morrison - The Executor
X-FBF-PRICE:9
X-FBF-CON-PRICE:7
X-FBF-CHILD-PRICE:
X-FBF-EVENT-CAPACITY:200
X-FBF-BOOKING-URL:
DESCRIPTION:[caption id="attachment_4683" align="alignright" width="165"] Photo by beanphoto.co.uk[/caption]\n\nBorn in Yorkshire\, Blake Morrison is a poet\, novelist critic and librettist\, as well as the author of two bestselling memoirs\, And When Did You Last See Your Father? (which became a film starring Jim Broadbent and Colin Firth) and Things My Mother Never Told Me. He co-edited The Penguin Book of Contemporary British Poetry with Andrew Motion\, wrote a study of the Bulger case\, and has adapted several plays for the theatre company Northern Broadsides. His novel The Last Weekend (2012) and his collection of poems Shingle Street (2015) are both set on the Suffolk coast. His new novel is called The Executor.\n\nChaired by Nicola Upson
LOCATION:Orwell Hotel - Elizabeth Suite\, Hamilton Road\, Felixstowe\, IP11 7DX\, United Kingdom
URL:https://felixstowebookfestival.co.uk/events/35-2
END:VEVENT
END:VCALENDAR