BEGIN:VCALENDAR
VERSION:2.0
PRODID:-//wp-events-plugin.com//7.2.3.1//EN
BEGIN:VEVENT
UID:087fa863-36af-42cc-ab2a-150fe16a4b41
DTSTART:20170701T140000Z
DTEND:20170701T150000Z
DTSTAMP:20170419T183612Z
SUMMARY:Piers Torday
X-FBF-PRICE:4.00
X-FBF-CON-PRICE:
X-FBF-CHILD-PRICE:4.00
X-FBF-EVENT-CAPACITY:
X-FBF-BOOKING-URL:114728
DESCRIPTION:Join the Guardian Children’s Book Award winner\, author of The Last Wild trilogy Piers Torday as he talks about his new book There May Be A Castle. A story about love\, loss and the power of imagination\, Piers will talk about the origination of storytelling and impart his writing secrets. He will tell you how hard it can be to become an author\, but he will also inspire you to persevere and follow your dreams.\n\nPiers will also be interviewed by members of local school book groups.\n\nAges 9+ (adults and children require tickets).\n\n
LOCATION:Felixstowe Library - Children's section\, Crescent Road\, Felixstowe\, United Kingdom
URL:https://felixstowebookfestival.co.uk/events/37a
END:VEVENT
END:VCALENDAR