BEGIN:VCALENDAR
VERSION:2.0
PRODID:-//wp-events-plugin.com//7.2.3.1//EN
BEGIN:VEVENT
UID:6673de40-e524-435f-856c-729cb6d8e11f
DTSTART:20160625T123000Z
DTEND:20160625T133000Z
DTSTAMP:20160320T131200Z
SUMMARY:Rosy Thornton: A character in its own right?
X-FBF-PRICE:8
X-FBF-CON-PRICE:6
X-FBF-CHILD-PRICE:
X-FBF-EVENT-CAPACITY:25
X-FBF-BOOKING-URL:51479
DESCRIPTION:This one-hour workshop will explore\, using participant exercises as well as examples from published works\, how landscape and the natural world can be put to effective use in the writing of fiction.\n\nWhat makes a landscape come alive for the reader? How can the backdrop to a story be used to enhance its dramatic impact? And what is revealed about characters through their interaction with the natural world?\n\nFor more information on Rosy Thornton please click link.
LOCATION:The Orwell Hotel - Furneaux Suite\, Hamilton Road\, Felixstowe\, Suffolk\, United Kingdom
URL:https://felixstowebookfestival.co.uk/events/38
END:VEVENT
END:VCALENDAR