BEGIN:VCALENDAR
VERSION:2.0
PRODID:-//wp-events-plugin.com//7.2.3.1//EN
BEGIN:VEVENT
UID:aadaf4f0-30e9-4f48-8423-40475e5b4a0e
DTSTART:20170701T173000Z
DTEND:20170701T183000Z
DTSTAMP:20170605T091143Z
SUMMARY:Richard T. Kelly- The Knives
X-FBF-PRICE:8
X-FBF-CON-PRICE:7
X-FBF-CHILD-PRICE:
X-FBF-EVENT-CAPACITY:180
X-FBF-BOOKING-URL:96128
DESCRIPTION:[caption id="attachment_4072" align="alignleft" width="113"] photo credit: Caroline O'Dwyer[/caption]\n\n\n'The best novel about modern politics I have read in years.' - Nick Cohen\, Observer‘The book that I’ve enjoyed most this year.’ - Alan Johnson\, New Statesman'The best political novel since [Alan Hollinghurst's The Line of Beauty.]' Times\n\n\nRichard T. Kelly joins us to discuss and read from his latest novel The Knives. This riveting and contemporarily relevant work is described as 'A gripping read from start to finish. A rich\, multi-layered account of the complexities of modern government where personal\, political and cultural realities mean simple choices are hard to come by'\, (Alastair Campbell\, Director of Communications and Strategy for Tony Blair 1997-2003). The Knives explores the secrets and complexities of modern government\, and the struggles that those in the highest ranks of Parliament face. Having spent much time in Westminster\, Richard has gained a unique insight into the political Establishment\, which he brings to life in thrilling fashion. Session chaired by Richard Walker. \n
LOCATION:Orwell Hotel - Elizabeth Suite\, Hamilton Road\, Felixstowe\, IP11 7DX\, United Kingdom
URL:https://felixstowebookfestival.co.uk/events/3a
END:VEVENT
END:VCALENDAR