BEGIN:VCALENDAR
VERSION:2.0
PRODID:-//wp-events-plugin.com//7.2.3.1//EN
BEGIN:VEVENT
UID:0857689c-72b8-42b0-a0b2-c8e9309f39db
DTSTART:20170702T163000Z
DTEND:20170702T173000Z
DTSTAMP:20170517T171227Z
SUMMARY:Panel of Liars: Novelists talk about deceit and hidden truths
X-FBF-PRICE:8
X-FBF-CON-PRICE:
X-FBF-CHILD-PRICE:
X-FBF-EVENT-CAPACITY:
X-FBF-BOOKING-URL:114727
DESCRIPTION:Ruth Dugdall introduces her latest novel\, My Sister &amp\; Other Liars\, set in the Bartlet Hospital\, Felixstowe and in Ipswich. Michael J Malone’s novel A Suitable Lie is about a taboo subject: domestic violence against men. Jane Isaac’s fifth book\, The Lies Within is a story of deception\, family secrets and the ultimate betrayal. Ruth\, Michael and Jane have all written about families and secrets\, and the truths we hide even from ourselves. They will share their tips and secrets…they promise not to lie!\n\nThis event is part of ‘New Voices\, Fresh Perspectives\, Firm Favourites’. This is a whole day of inspiring and thought-provoking events\, for aspiring writers and those who love the written word… Join us for the whole day for just £35\, which includes entrance to the short story competition\, or hand-pick individual sessions at £8 each (£10 for the short story event including entry).
LOCATION:The Orwell Hotel - Furneaux Suite\, Hamilton Road\, Felixstowe\, Suffolk\, United Kingdom
URL:https://felixstowebookfestival.co.uk/events/47a
END:VEVENT
END:VCALENDAR