BEGIN:VCALENDAR
VERSION:2.0
PRODID:-//wp-events-plugin.com//7.2.3.1//EN
BEGIN:VEVENT
UID:c2e12a76-4e8f-43f7-acd5-b62e86cca7fb
DTSTART:20160626T143000Z
DTEND:20160626T153000Z
DTSTAMP:20160320T142017Z
SUMMARY:The Great Dahl Snatch-back!
X-FBF-PRICE:5
X-FBF-CON-PRICE:
X-FBF-CHILD-PRICE:3
X-FBF-EVENT-CAPACITY:40
X-FBF-BOOKING-URL:51876
DESCRIPTION:The dastardly Caractosnatch has stolen some of Roald Dahl’s best-loved characters from their stories! Can you help them complete the challenges the Caractosnatch has set so they can return to their books?\n\n2016 marks 100 years since the birth of Roald Dahl. Bring the whole family along to this interactive event celebrating one of the nation’s favourite children’s authors. Rapscallion Theatre Company will be bringing some of Dahl's famous characters to life.\n\nChildren under 12 must be accompanied by adult. Adults also require a ticket. 
LOCATION:Felixstowe Library - Children's section\, Crescent Road\, Felixstowe\, United Kingdom
URL:https://felixstowebookfestival.co.uk/events/50
END:VEVENT
END:VCALENDAR