BEGIN:VCALENDAR
VERSION:2.0
PRODID:-//wp-events-plugin.com//7.2.3.1//EN
BEGIN:VEVENT
UID:9e0442ce-f950-4bc0-84c4-792684f50cdd
DTSTART:20180701T140000Z
DTEND:20180701T153000Z
DTSTAMP:20190112T183233Z
SUMMARY:Wham! Bam! Pow! - Happy Birthday to the Beano!
X-FBF-PRICE:
X-FBF-CON-PRICE:
X-FBF-CHILD-PRICE:4
X-FBF-EVENT-CAPACITY:40
X-FBF-BOOKING-URL:
DESCRIPTION:[caption id="attachment_4770" align="alignleft" width="127"] ©DC Thomson Ltd (2018)[/caption]\n\nIn association with Rapscallion Theatre Company and Suffolk Libraries. It’s Beano’s 80th Birthday. Join Mischief Makers Dennis\, Gnasher and crew for some madcap mayhem as we launch the Summer Reading Challenge. Expect games\, craft and oodles of fun.\n\n&nbsp\;\n\n 
LOCATION:Felixstowe Library - Children's section\, Crescent Road\, Felixstowe\, United Kingdom
URL:https://felixstowebookfestival.co.uk/events/51-2
END:VEVENT
END:VCALENDAR