BEGIN:VCALENDAR
VERSION:2.0
PRODID:-//wp-events-plugin.com//7.2.3.1//EN
BEGIN:VEVENT
UID:50f02c0d-80ed-4c4e-a434-4dc479e13e23
DTSTART:20180630T100000Z
DTEND:20180630T120000Z
DTSTAMP:20190112T174810Z
SUMMARY:Art and Craft with Arty Mouse
X-FBF-PRICE:
X-FBF-CON-PRICE:
X-FBF-CHILD-PRICE:
X-FBF-EVENT-CAPACITY:
X-FBF-BOOKING-URL:
DESCRIPTION:We welcome back Imagine That Publishing for an informal arts and crafts session with lots of great Arty Mouse-themed stamping\, sticking\, painting\, colouring\, tracing and stencilling activities. All arts and craft materials are provided free-of-charge\, and there will be a free prize draw entry for all children who complete an early learning through art Arty Mouse activity.  \n\nRecommended for ages 2 - 6 years\n\nThis is a drop in event - no tickets\, no charge. Just come along!
LOCATION:Felixstowe Library - Children's section\, Crescent Road\, Felixstowe\, United Kingdom
URL:https://felixstowebookfestival.co.uk/events/52-2
END:VEVENT
END:VCALENDAR