BEGIN:VCALENDAR
VERSION:2.0
PRODID:-//wp-events-plugin.com//7.2.3.1//EN
BEGIN:VEVENT
UID:8d8a92f4-29ed-458f-9abb-562716072965
DTSTART:20180630T094500Z
DTEND:20180630T104500Z
DTSTAMP:20190112T174602Z
SUMMARY:Ross King - Claude Monet and the painting of The Water Lilies
X-FBF-PRICE:9
X-FBF-CON-PRICE:7
X-FBF-CHILD-PRICE:
X-FBF-EVENT-CAPACITY:45
X-FBF-BOOKING-URL:
DESCRIPTION:\nClaude Monet’s Water Lilies are among the world’s most beloved paintings. This illustrated lecture will describe how these beautiful images were created not only during a time of terrible private  turmoil for Monet but also against the tragic backdrop of World War I. \n&nbsp\;\n\n&nbsp\;
LOCATION:The Orwell Hotel - Furneaux Suite\, Hamilton Road\, Felixstowe\, Suffolk\, United Kingdom
URL:https://felixstowebookfestival.co.uk/events/8-2
END:VEVENT
END:VCALENDAR