BEGIN:VCALENDAR
VERSION:2.0
PRODID:-//wp-events-plugin.com//7.2.3.1//EN
BEGIN:VEVENT
UID:c19a1270-b841-4e07-a49e-338099ac1ef8
DTSTART:20160625T140000Z
DTEND:20160625T150000Z
DTSTAMP:20160623T090942Z
SUMMARY:Mandy Morton
X-FBF-PRICE:8
X-FBF-CON-PRICE:6
X-FBF-CHILD-PRICE:
X-FBF-EVENT-CAPACITY:30
X-FBF-BOOKING-URL:51076
DESCRIPTION:\nMandy Morton will launch the third book in her No. 2 Feline Detective Agency series at this year's festival. The new novel\, The Death of Downton Tabby\, takes a sideways swipe at a literary festival where even the Brontë sisters aren't all that they seem. Enter Mandy's madcap world of deeply dark and hilariously funny cat capers\, as she discusses Hettie and Tilly's latest assignment with fellow crime writer Nicola Upson.\n
LOCATION:The Orwell Hotel - Furneaux Suite\, Hamilton Road\, Felixstowe\, Suffolk\, United Kingdom
URL:https://felixstowebookfestival.co.uk/events/8
END:VEVENT
END:VCALENDAR