BEGIN:VCALENDAR
VERSION:2.0
PRODID:-//wp-events-plugin.com//7.2.3.1//EN
BEGIN:VEVENT
UID:0ade8360-0296-4772-b26b-8618d06acd0e
DTSTART:20180630T100000Z
DTEND:20180630T110000Z
DTSTAMP:20190112T174702Z
SUMMARY:Horatio Clare and Rose George - Inside Shipping
X-FBF-PRICE:9
X-FBF-CON-PRICE:7
X-FBF-CHILD-PRICE:
X-FBF-EVENT-CAPACITY:200
X-FBF-BOOKING-URL:
DESCRIPTION:\n\nPhoto: Karen Robinson\nGeorge's Deep Sea and foreign Going: Inside Shipping\, the Invisible Industry and Clare's Down to the Sea in Ships are absorbing insights into the shipping industry from two writers who joined the crews of container ships. They reveal the secrets of this little known  world and also introduce you to their latest books\, Clare's Icebreaker: a Voyage far North and George's Nine Pints. \nChaired by Richard Walker
LOCATION:Orwell Hotel - Elizabeth Suite\, Hamilton Road\, Felixstowe\, IP11 7DX\, United Kingdom
URL:https://felixstowebookfestival.co.uk/events/9-2
END:VEVENT
END:VCALENDAR