BEGIN:VCALENDAR
VERSION:2.0
PRODID:-//wp-events-plugin.com//7.2.3.1//EN
BEGIN:VEVENT
UID:592adc62-8095-468b-b426-42b9d519cde9
DTSTART:20150627T113000Z
DTEND:20150627T123000Z
DTSTAMP:20150420T145923Z
SUMMARY:Elly Crichton Stuart - Active Hope
X-FBF-PRICE:5
X-FBF-CON-PRICE:4
X-FBF-CHILD-PRICE:
X-FBF-EVENT-CAPACITY:30
X-FBF-BOOKING-URL:37477
DESCRIPTION:Active Hope: How to Face the Mess We're in without Going Crazy\nThe story of Parsifal\, part of the legend of the Holy Grail\, describes a situation of great suffering not being acknowledged and of people carrying on as if nothing were wrong. In their book Active Hope\, ecophilosopher Joanna Macy and physician Dr. Chris Johnstone explore why many of us continue to live as if everything were fine\, not recognizing the crisis we are in.\n\nStoryteller Elly Crichton Stuart tells the story of Parsifal and reveals how Active Hope guides us through the challenges\, towards transformation and the creation of a whole new story.
LOCATION:The Orwell Hotel - Furneaux Suite\, Hamilton Road\, Felixstowe\, Suffolk\, United Kingdom
URL:https://felixstowebookfestival.co.uk/events/active-hope-elly-crichton-stuart
END:VEVENT
END:VCALENDAR