BEGIN:VCALENDAR
VERSION:2.0
PRODID:-//wp-events-plugin.com//7.2.3.1//EN
BEGIN:VEVENT
UID:8a4c2061-c8e3-4fc4-9f30-074e4b5f4f1b
DTSTART:20250628T173000Z
DTEND:20250628T183000Z
DTSTAMP:20250325T142527Z
SUMMARY:Barbara Erskine: The Story Spinner
X-FBF-PRICE:12(10)
X-FBF-CON-PRICE:
X-FBF-CHILD-PRICE:
X-FBF-EVENT-CAPACITY:
X-FBF-BOOKING-URL:
DESCRIPTION:A Welsh princess. A Roman general. Their love story lost to time… a spellbinding tale of love\, ambition\, and secrets that have lain silent for over a thousand years…\n\nThe land of the Silures\, 382 AD. Elen is a princess promised to a general of Rome. Macsen came to Wales seeking an alliance that would advance his quest for power. This union will change Elen’s destiny forever.\n\nCamp Meadow\, 2024.  Cadi is a writer who has discovered Elen’s lost story. But someone is desperate to keep the past buried. Can Cadi uncover Elen’s story before it’s lost to time?\n\nIn conversation with Mandy Morton\n\nAbout the author\n\nBarbara Erskine is the author of many bestselling novels and three collections of short stories that demonstrate her interest in both history and the supernatural. Lady of Hay\, her first novel\, has now sold over three million copies worldwide. This will be her third appearance at our festival\n\n&nbsp\;\n\n[caption id="attachment_14554" align="alignleft" width="150"] photo by Chris Norton[/caption]\n\n\n\n&nbsp\;\n\n&nbsp\;\n\n&nbsp\;\n\n&nbsp\;\n\n\n\n
LOCATION:Harvest House - The Palm Court Room\, Cobbold Road\, FELIXSTOWE\, IP11 7SP\, United Kingdom
URL:https://felixstowebookfestival.co.uk/events/barbara-erskine-the-story-spinner
END:VEVENT
END:VCALENDAR