BEGIN:VCALENDAR
VERSION:2.0
PRODID:-//wp-events-plugin.com//7.2.3.1//EN
BEGIN:VEVENT
UID:2d245efd-fc64-4bde-813c-1e25113078de
DTSTART:20260628T133000Z
DTEND:20260628T143000Z
DTSTAMP:20260331T062954Z
SUMMARY:Blake Morrison On Memoir: An A-Z of Life Writing
X-FBF-PRICE:12.00
X-FBF-CON-PRICE:10.00
X-FBF-CHILD-PRICE:
X-FBF-EVENT-CAPACITY:40
X-FBF-BOOKING-URL:https://www.ticketsource.co.uk/booking/t-yzzdxlg
DESCRIPTION:An exploration of narrative non-fiction\, its challenges\, ethics and charms\, and its power to move and change us. From AI to ethics to politics to sex\, there is something for every reader and writer in this modern classic.\nA delightful compendium of musings from the master of life writing\, the much-loved Blake Morrison\, for those who practise the art of memoir\, and those who read it.\nGleaned from a lifetime as a passionate reader of others’ lives\, as well as an unflinchingly honest chronicler of his own\, Morrison’s A-Z is a trove of thoughtful literary exploration\, amusing observations\, and fascinating finds. A modern classic from the greatest memoirist of his generation – essential reading.\nIn conversation with FBF guest interviewer Wendy Jones\nWendy is the author of seven books\, including the bestselling Grayson Perry\, Portrait of the Artist as a Young Girl and Utterly lazy and Inattentive: Martin Parr in Words and Pictures She has a PhD from Goldsmiths on writing interview-based biographies\, and her books have been published in eleven languages.\n\n[gallery ids="15007\,15008"]
LOCATION:Harvest House\, Cobbold Road\, FELIXSTOWE\, IP11 7SP\, United Kingdom
URL:https://felixstowebookfestival.co.uk/events/blake-morrison-on-memoir-an-a-z-of-life-writing
END:VEVENT
END:VCALENDAR