BEGIN:VCALENDAR
VERSION:2.0
PRODID:-//wp-events-plugin.com//7.2.3.1//EN
BEGIN:VEVENT
UID:f8eee4a9-55f6-4d8b-af0b-4418d3722d24
DTSTART:20200627T163000Z
DTEND:20200627T173000Z
DTSTAMP:20200621T095311Z
SUMMARY:LIVE: Carol Drinkwater
X-FBF-PRICE:
X-FBF-CON-PRICE:
X-FBF-CHILD-PRICE:
X-FBF-EVENT-CAPACITY:
X-FBF-BOOKING-URL:
DESCRIPTION:\n\nSaturday 27th June\, 4:30pm\nCarol Drinkwater\n\nPast and present spectacularly collide in The House on the Edge of the Cliff\, a gripping story of enduring love and betrayal echoing across the decades.\n\n\nCarol Drinkwater’s books\, which include memoirs set on her olive farm in the south of France\, have sold over one million copies worldwide. She is an award-winning actress best known for playing Helen Herriot in All Creatures Great and Small.\n\nThis event is kindly sponsored by Coes Felixstowe.\n\nHow to watch?\nThis event will be streamed live on our Facebook page.\nThe most interactive way to experience the event is to log in to Facebook and visit https://www.facebook.com/FelixstoweBookFest\n\nOr you can watch online at https://felixstowebookfestival.co.uk/online\nAll events are free to watch.\nIf you would like to support the festival\, you can do so by visiting our JustGiving page and making a donation.\n&nbsp\;
LOCATION:\, \, 
URL:https://felixstowebookfestival.co.uk/events/carol-drinkwater
END:VEVENT
END:VCALENDAR