BEGIN:VCALENDAR
VERSION:2.0
PRODID:-//wp-events-plugin.com//7.2.3.1//EN
BEGIN:VEVENT
UID:cb6d08a3-9472-481a-993a-0b0923d20fdb
DTSTART:20260627T100000Z
DTEND:20260627T110000Z
DTSTAMP:20260331T061420Z
SUMMARY:Dame Jacqueline Wilson - Picture Imperfect
X-FBF-PRICE:15
X-FBF-CON-PRICE:12
X-FBF-CHILD-PRICE:
X-FBF-EVENT-CAPACITY:
X-FBF-BOOKING-URL:https://www.ticketsource.co.uk/booking/t-aaadmey
DESCRIPTION:Millions grew up loving The Illustrated Mum\; now find out what happens next in this joyful adult sequel. Dolphin Westward is done with putting everyone else first - especially her unpredictable mother\, Marigold. But how do you break the habit of a lifetime?\nThis event is to celebrate the publication of Jacqueline Wilson's adult novels and will contain discussion of adult themes. It is not suitable for younger readers. There will not be a book signing after the event\, but some signed copies will be available from our pop-up book shop by Red Lion Books.\n\n[gallery type="square" columns="2" size="medium" ids="14911\,14912"]
LOCATION:Harvest House\, Cobbold Road\, FELIXSTOWE\, IP11 7SP\, United Kingdom
URL:https://felixstowebookfestival.co.uk/events/dame-jacqueline-wilson-picture-imperfect
END:VEVENT
END:VCALENDAR