BEGIN:VCALENDAR
VERSION:2.0
PRODID:-//wp-events-plugin.com//7.2.3.1//EN
BEGIN:VEVENT
UID:20fb0650-29ae-4e64-ade0-6ee34154c948
DTSTART:20230617T150000Z
DTEND:20230617T160000Z
DTSTAMP:20230326T174343Z
SUMMARY:Doughnuts\, Chips and Writing Tips with Mark Lowery
X-FBF-PRICE:4
X-FBF-CON-PRICE:
X-FBF-CHILD-PRICE:4
X-FBF-EVENT-CAPACITY:60
X-FBF-BOOKING-URL:
DESCRIPTION:\n\nSuitable for ages 8+\n\n\n  \n\n\nJoin international award-winning author Mark Lowery for a fun\, chucklesome and interactive talk about all of the important things in life: reading\, writing and\, of course\, fish and chips. Expect magic tricks\, silly wigs and lots of exciting tips about how to improve your writing.\n\nIncludes bookselling and signing.\n\nMark Lowery is the author of the hilarious Roman Garstang books\, two of which – The Jam Doughnut that ruined my Life and Attack of the Woolly Jumper – were shortlisted for the Roald Dahl Funny Prize. The first was also shortlisted for the Children’s Book Award. Two of Mark’s stand alone novels\, Eating Chips with Monkey\, and Charlie and Me\, were nominated for the CILIP Carnegie Medal.\n\n\n\n&nbsp\;
LOCATION:Felixstowe Library\, Crescent Road\, Felixstowe\, Suffolk\, United Kingdom
URL:https://felixstowebookfestival.co.uk/events/doughnuts-chips-and-writing-tips-with-mark-lowery
END:VEVENT
END:VCALENDAR