BEGIN:VCALENDAR
VERSION:2.0
PRODID:-//wp-events-plugin.com//7.2.3.1//EN
BEGIN:VEVENT
UID:9829b2c0-5dc0-4c18-831d-6ab2f0723be8
DTSTART:20260628T150000Z
DTEND:20260628T160000Z
DTSTAMP:20260331T063228Z
SUMMARY:Dr Alison Weir - replacement for Sunday 28th June 3pm - 4pm
X-FBF-PRICE:12.00
X-FBF-CON-PRICE:10.00
X-FBF-CHILD-PRICE:
X-FBF-EVENT-CAPACITY:
X-FBF-BOOKING-URL:https://www.ticketsource.co.uk/booking/t-gllenyz
DESCRIPTION:Dr Alison Weir will no longer be attending the Festival and unfortunately her cancellation came after our brochure was printed. However\, we are delighted to say that we will be welcoming Mary-Jane Riley on Sunday 28th June between 3pm and 4pm in the Palm Court. Full details can be found here \n\n[gallery ids="15027\,15026"]
LOCATION:Harvest House\, Cobbold Road\, FELIXSTOWE\, IP11 7SP\, United Kingdom
URL:https://felixstowebookfestival.co.uk/events/dr-alison-weir-replacement-for-sunday-28th-june-3pm-4pm
END:VEVENT
END:VCALENDAR