BEGIN:VCALENDAR
VERSION:2.0
PRODID:-//wp-events-plugin.com//7.2.3.1//EN
BEGIN:VEVENT
UID:f9e559fb-b64e-44b5-8be4-3caf0fa85222
DTSTART:20260626T193000Z
DTEND:20260626T213000Z
DTSTAMP:20260410T164542Z
SUMMARY:Felixstowe Book Festival Opening Event - tickets now available!!
X-FBF-PRICE:15
X-FBF-CON-PRICE:13
X-FBF-CHILD-PRICE:
X-FBF-EVENT-CAPACITY:
X-FBF-BOOKING-URL:https://www.ticketsource.com/felixstowebookfestival/blake-morisson-and-the-hosepipe-band/2026-06-26/19:30/t-aavrrkd
DESCRIPTION:Our main festival tickets might not yet be on sale until Wednesday 1st April\, however\, you can already secure your tickets today for our Opening Event on: Friday 26th June from 7.30pm\nVenue: Two Sisters Arts Centre\, High Rd\, Trimley St Mary\, Felixstowe IP11 0SP\n\nScenes from a Life features poems from Blake Morrison’s Afterburn as well as his prose writing. Blake’s readings are accompanied by music composed and played by members of the Hosepipe Band\n\n\n\nThis event is a collaboration between Felixstowe Book Festival and the Two Sisters Arts Centre\nTickets £15 (£13) available to purchase here
LOCATION:2 Sisters Arts Centre Trimley\, Trimley St Mary \, IP11 0SP\, United Kingdom
URL:https://felixstowebookfestival.co.uk/events/felixstowe-book-festival-opening-event-tickets-now-available
END:VEVENT
END:VCALENDAR