BEGIN:VCALENDAR
VERSION:2.0
PRODID:-//wp-events-plugin.com//7.2.3.1//EN
BEGIN:VEVENT
UID:ebeef158-7522-4e86-8afd-3c36bd6d46f9
DTSTART:20150627T130000Z
DTEND:20150627T140000Z
DTSTAMP:20150422T182826Z
SUMMARY:A Box of Socks with Amanda Brandon
X-FBF-PRICE:
X-FBF-CON-PRICE:
X-FBF-CHILD-PRICE:2.50
X-FBF-EVENT-CAPACITY:20
X-FBF-BOOKING-URL:37876
DESCRIPTION:Don’t forget to wear your craziest socks for this event! Children’s author Amanda Brandon will be sharing her latest book A Box of Socks featuring Granny Mutton\, Little Lionel and farm friends. Play the sock game and make simple puppets in this interactive storytelling session. Suitable for ages 3-7.\n\n&nbsp\;\n\nA Box of Socks (currently available to pre-order released May 28th) and A Scarf and a Half are available from www.maverickbooks.co.uk\n\n&nbsp\;\n\nChildren must be accompanied by an adult (adults don't require a ticket).
LOCATION:Felixstowe Library - Children's section\, Crescent Road\, Felixstowe\, United Kingdom
URL:https://felixstowebookfestival.co.uk/events/interactive-storytelling-with-amanda-brandon-2
END:VEVENT
END:VCALENDAR