BEGIN:VCALENDAR
VERSION:2.0
PRODID:-//wp-events-plugin.com//7.2.3.1//EN
BEGIN:VEVENT
UID:f433127a-e12a-43f8-9641-12f7f868c103
DTSTART:20150627T110000Z
DTEND:20150627T120000Z
DTSTAMP:20150422T182802Z
SUMMARY:A Scarf and a Half with Amanda Brandon
X-FBF-PRICE:
X-FBF-CON-PRICE:
X-FBF-CHILD-PRICE:2.50
X-FBF-EVENT-CAPACITY:20
X-FBF-BOOKING-URL:37675
DESCRIPTION:\n\nCome and have a laugh with a scarf and lots of farmyard fun in this interactive storytelling session with children’s author Amanda Brandon. See Granny Mutton’s extra special present for Little Lionel of picture book A Scarf and a Half and make a sheep collage or bookmark gift for your own granny or grandpa.\n\nSuitable for ages 3-7.\n\nA Box of Socks (currently available to pre-order released May 28th) and A Scarf and a Half are available from www.maverickbooks.co.uk\n\n&nbsp\;\n\nChildren must be accompanied by an adult (adults don't require a ticket).
LOCATION:Felixstowe Library - Children's section\, Crescent Road\, Felixstowe\, United Kingdom
URL:https://felixstowebookfestival.co.uk/events/interactive-storytelling-with-amanda-brandon
END:VEVENT
END:VCALENDAR