BEGIN:VCALENDAR
VERSION:2.0
PRODID:-//wp-events-plugin.com//7.2.3.1//EN
BEGIN:VEVENT
UID:163ea506-df8b-4d61-b2c8-80551c8e40ba
DTSTART:20260627T100000Z
DTEND:20260627T110000Z
DTSTAMP:20260331T061630Z
SUMMARY:Jay Griffiths How Animals heal Us
X-FBF-PRICE:12.00
X-FBF-CON-PRICE:10.00
X-FBF-CHILD-PRICE:
X-FBF-EVENT-CAPACITY:40
X-FBF-BOOKING-URL:https://www.ticketsource.co.uk/booking/t-xddrogn
DESCRIPTION:Pet-owners and animal-lovers instinctively know that animals heal. This book offers the evidence\, drawing widely on scientific discoveries\, history\, and Indigenous knowledge.\n\nWe meet a pot-bellied pig who saved her owner's life\, lions who guarded a girl from kidnappers\, dolphins and whales rescuing people in danger\, and dogs who can smell cancer and phone the Emergency Services.\n\nIn this original\, revelatory and exuberant book\, Jay Griffiths explores how animals can have a role in every level of healing\, from the individual to the collective\, guiding us in how we might create societies that are healthier\, fairer and kinder.\n\nIn conversation with Catherine Larner\n\n[gallery ids="14971\,14972"]
LOCATION:Harvest House\, Cobbold Road\, FELIXSTOWE\, IP11 7SP\, United Kingdom
URL:https://felixstowebookfestival.co.uk/events/jay-griffiths-how-animals-heal-us
END:VEVENT
END:VCALENDAR