BEGIN:VCALENDAR
VERSION:2.0
PRODID:-//wp-events-plugin.com//7.2.3.1//EN
BEGIN:VEVENT
UID:36f47ec3-1358-4b3b-85df-416c7054738e
DTSTART:20150627T190000Z
DTEND:20150627T200000Z
DTSTAMP:20150420T162107Z
SUMMARY:Jim Nind - Solvitur Ambulando
X-FBF-PRICE:5
X-FBF-CON-PRICE:4
X-FBF-CHILD-PRICE:
X-FBF-EVENT-CAPACITY:50
X-FBF-BOOKING-URL:37482
DESCRIPTION:Jim Nind is a Felixstowe-based artist\, writer\, and academic. His work draws upon the experience of being out there\, under the light of the sky\, wandering the coastal margins\, and responding to the pull of the sea. Jim’s book\, Solvitur Ambulando\, combines his fine art photographs with a related prose-poem sequence based upon the walk from Felixstowe to the fishing and boating hamlet known as Felixstowe Ferry. Jim’s presentation will take the form of a reading from the book\, accompanied by a slide sequence of the photographs.
LOCATION:Orwell Hotel - His Lordship's Library\, Hamilton Road\, Felixstowe\, United Kingdom
URL:https://felixstowebookfestival.co.uk/events/jim-nind-solvitur-ambulando
END:VEVENT
END:VCALENDAR