BEGIN:VCALENDAR
VERSION:2.0
PRODID:-//wp-events-plugin.com//7.2.3.1//EN
BEGIN:VEVENT
UID:6d498065-9525-4b45-ab71-9e94952390c9
DTSTART:20260531T140000Z
DTEND:20260531T170000Z
DTSTAMP:20260328T071555Z
SUMMARY:Join us for a Pre Festival River Trip with authors Nicci French
X-FBF-PRICE:44.00
X-FBF-CON-PRICE:
X-FBF-CHILD-PRICE:
X-FBF-EVENT-CAPACITY:55
X-FBF-BOOKING-URL:https://orwelllady.co.uk/nicci-french/
DESCRIPTION:Join us on the river on board Orwell Lady to hear from the writing partnership of Nicci Gerrard and Sean French. Focusing on their career\, writing techniques and their latest book: What Happened That Night (published February 2026).\n\nBooks will be available to purchase on board. There will be plenty of time to mingle\, ask questions and have books signed.\n\nYour ticket price also includes homemade scones served with clotted cream and jam. There will also be a licensed bar on board. The whole trip is three hours\, leaving Orwell Quay (IP3 0FS) on Ipswich Waterfront at 2pm.\n\nFor more information and to purchase your tickets\, click here\n\n[gallery ids="14840\,14841"]
LOCATION:Orwell Quay\, Ipswich\, Ipswich Waterfront \, Ipswich \, Suffolk\, IP3 0FS\, United Kingdom
URL:https://felixstowebookfestival.co.uk/events/join-us-for-a-pre-festival-river-trip-with-authors-nicci-french
END:VEVENT
END:VCALENDAR