BEGIN:VCALENDAR
VERSION:2.0
PRODID:-//wp-events-plugin.com//7.2.3.1//EN
BEGIN:VEVENT
UID:144dfaf6-bb5f-4034-844e-58b3106d1556
DTSTART:20170611T150000Z
DTEND:20170611T160000Z
DTSTAMP:20170424T191259Z
SUMMARY:Artist Maggi Hambling in conversation with novelist Nicola Upson
X-FBF-PRICE:8
X-FBF-CON-PRICE:7
X-FBF-CHILD-PRICE:
X-FBF-EVENT-CAPACITY:180
X-FBF-BOOKING-URL:105127
DESCRIPTION:One of Britain's foremost contemporary artists\, Maggi Hambling is renowned for a prolific corpus\, best known for her portraits\, paintings of the sea\, and public sculpture - both celebrated and controversial. Less familiar but equally significant are her works on paper\, dynamic and sensuous - condensing the themes of life and death which underscore her art.\n\nShe forges an immediate and powerful connection with the subject being drawn\, and it is this concept of ‘touch’ which pervades her work. Hambling will be discussing her new book which was published to coincide with an important retrospective of her work on paper at the British Museum which opened in 2016.\nMost recently an exhibition of her new paintings and sculpture\, EDGE\, was shown at Marlborough Fine Art in London.\n\nPlease note this event is on SUNDAY 11th June\, there is a misprint in our printed programmes!\nKindly sponsored by\n
LOCATION:Orwell Hotel - Elizabeth Suite\, Hamilton Road\, Felixstowe\, IP11 7DX\, United Kingdom
URL:https://felixstowebookfestival.co.uk/events/june
END:VEVENT
END:VCALENDAR