BEGIN:VCALENDAR
VERSION:2.0
PRODID:-//wp-events-plugin.com//7.2.3.1//EN
BEGIN:VEVENT
UID:ba1cc097-1952-431e-926c-f0a684d4fee1
DTSTART:20260627T173000Z
DTEND:20260627T183000Z
DTSTAMP:20260331T062417Z
SUMMARY:Katie da Cunha Lewin The Writer's Room: The Hidden Worlds that Shape the Books We Love
X-FBF-PRICE:12.00
X-FBF-CON-PRICE:10.00
X-FBF-CHILD-PRICE:
X-FBF-EVENT-CAPACITY:40
X-FBF-BOOKING-URL:https://www.ticketsource.co.uk/booking/t-mjjqdyk
DESCRIPTION:The Brontës’ study in the parsonage\; Virginia Woolf’s garden room\; Maya Angelou writing in hotel rooms and Ernest Hemingway in Parisian cafés- What is it that so fascinates us about the spaces where writers work?\nWhy does a remote cabin\, ramshackle shed or library garret\, strewn with papers and piled with books\, so capture our imagination?\nThe Writer's Room takes us on a fascinating journey through the hidden worlds that shape the books we love.\n\nIn conversation with Nicola Upson\n\n[gallery ids="14986\,14987"]
LOCATION:Harvest House\, Cobbold Road\, FELIXSTOWE\, IP11 7SP\, United Kingdom
URL:https://felixstowebookfestival.co.uk/events/katie-da-cunha-lewin-the-writers-room-the-hidden-worlds-that-shape-the-books-we-love
END:VEVENT
END:VCALENDAR