BEGIN:VCALENDAR
VERSION:2.0
PRODID:-//wp-events-plugin.com//7.2.3.1//EN
BEGIN:VEVENT
UID:9661cfce-e100-471d-85b2-ed7da4039c78
DTSTART:20260628T150000Z
DTEND:20260628T160000Z
DTSTAMP:20260331T063040Z
SUMMARY:Mandy Morton Tea at 3 - 'The Tabby in Black'
X-FBF-PRICE:15
X-FBF-CON-PRICE:
X-FBF-CHILD-PRICE:
X-FBF-EVENT-CAPACITY:40
X-FBF-BOOKING-URL:https://www.ticketsource.co.uk/booking/t-njjyrxq
DESCRIPTION:Join festival favourite Mandy Morton for an afternoon tea as she reads from the latest book in her No2. Feline Detective Agency series. 'The Tabby in Black' finds her feline sleuths Hettie and Tilly in a very sticky situation as they investigate a series of deaths in their local chocolate factory in the village of Catberry on the Brink.\n\nChocks away! Up at the Manor House\, the family is at war as dark secrets are uncovered in The Tabby in Black chocolate selection box.\nWill Hettie and Tilly manage to reach the bottom layer before a murderer strikes? Did Horace Catberry really choke on a Mog Nob biscuit? And will the Goth band “Gums and Noses” get to support “The Travelling Whoopsies” on their next tour?\n\nTea\, chocolate cake and a free copy of the book are included in the ticket price.\n\n[gallery ids="15010\,15021"]
LOCATION:Harvest House\, Cobbold Road\, FELIXSTOWE\, IP11 7SP\, United Kingdom
URL:https://felixstowebookfestival.co.uk/events/mandy-morton-tea-at-3-the-tabby-in-black
END:VEVENT
END:VCALENDAR