BEGIN:VCALENDAR
VERSION:2.0
PRODID:-//wp-events-plugin.com//7.2.3.1//EN
BEGIN:VEVENT
UID:279d1b22-ee69-42dd-9ac2-255625c0f4ac
DTSTART:20260628T150000Z
DTEND:20260628T160000Z
DTSTAMP:20260331T063130Z
SUMMARY:Mary-Jane Riley - Beattie Cavendish and the Highland Hideaway
X-FBF-PRICE:12.00
X-FBF-CON-PRICE:10.00
X-FBF-CHILD-PRICE:
X-FBF-EVENT-CAPACITY:
X-FBF-BOOKING-URL:https://www.ticketsource.co.uk/booking/t-gllenyz
DESCRIPTION:The compelling mystery series is set at the dawn of the Cold War 1949. The Cold War is intensifying and rumours abound that the Russians are close to creating an atomic bomb.\n\nBeattie Cavendish\, special operative for a covert section of GCHQ\, is a spy like no other. She is an unusual figure in the world of espionage. As a woman in the male-dominated world of the late 1940s and 1950s\, she is passionate\, opinionated and gives no quarter to anyone.\nBeattie is sent to a pivotal listening station in the Highlands of Scotland where she finds a base in chaos and danger around every corner…\nAs the snow begins to fall hard and fast\, Beattie realises that\, as she navigates the dangerous world of spying and intrigue\, she is putting her life in danger\, and that the answers she is looking for lie buried in her wartime past.\n\nIn conversation with Georgy Jamieson.\n\n[gallery ids="15026\,15027"]
LOCATION:Harvest House\, Cobbold Road\, FELIXSTOWE\, IP11 7SP\, United Kingdom
URL:https://felixstowebookfestival.co.uk/events/mary-jane-riley-beattie-cavendish-and-the-highland-hideaway
END:VEVENT
END:VCALENDAR