BEGIN:VCALENDAR
VERSION:2.0
PRODID:-//wp-events-plugin.com//7.2.3.1//EN
BEGIN:VEVENT
UID:f6023c7d-9d5e-43dc-9650-2dcc31773535
DTSTART:20190629T150000Z
DTEND:20190629T160000Z
DTSTAMP:20190515T104901Z
SUMMARY:Operation Buried Treasure with Ally Sherrick
X-FBF-PRICE:4
X-FBF-CON-PRICE:4
X-FBF-CHILD-PRICE:4
X-FBF-EVENT-CAPACITY:60
X-FBF-BOOKING-URL:206128
DESCRIPTION:Join award-winning author\, Ally Sherrick on a trip through time to discover the places and events that inspired her World War II\, Suffolk-set adventure\, The Buried Crown.\n\nIt is 80 years since the real-life Anglo-Saxon ship burial and all its priceless treasures were discovered at Sutton Hoo near Woodbridge.\n\nDuring this session Ally will reveal how she wove her story of young wartime evacuee hero George Penny\, his friend Spud the dog\, and German-Jewish refugee Kitty Regenbogen with the discovery of the Sutton Hoo treasures.\n\nThe session offers lots of participation\, including the chance for the audience to help Ally create the start of a brand new treasure story\, and there’ll be time for you to ask questions after. \n\nWe are delighted that several local schools have set up book groups to read The Buried Crown this year.\n\nDesign a Book Cover Competition \n\nFor ages 8-13\n\nYou could win a signed copy of Ally’s award-winning adventure about the Gunpowder Plot:  Black Powder. \n\n How to enter:\n\nDesign an alternative cover for The Buried Crown by Ally Sherrick.\n\nUse pens\, pencils or paints or whatever you like to create a different cover design for this book.\n\n Rules\n\n 	Entries only from children coming to the event.\n 	Entries must be on A4 paper.\n 	On the reverse write your name\, age\, parent/guardian phone number and school.\n 	Entries to be delivered to:\n\nFelixstowe Library\, Crescent Road\, Felixstowe\, Suffolk\, IP11 7BY\n\nClosing date:  Saturday 22nd June 2019\n\nWinners announced at the event. \n\n To find out more about the Sutton Hoo discovery why not come to the Sutton Hoo Roadshow before this event?\n\n To discover more about Ally and her books visit her website at: www.allysherrick.com\n\nYou can also follow her on Twitter: @ally_sherrick\n\nSuitable  from  8 years.  Accompanying  adults  do  require  a ticket.
LOCATION:Felixstowe Library\, Crescent Road\, Felixstowe\, Suffolk\, United Kingdom
URL:https://felixstowebookfestival.co.uk/events/operation-buried-treasure-with-ally-sherrick
END:VEVENT
END:VCALENDAR