BEGIN:VCALENDAR
VERSION:2.0
PRODID:-//wp-events-plugin.com//7.2.3.1//EN
BEGIN:VEVENT
UID:8ae88f9e-861b-4f89-b7b1-6521754795d8
DTSTART:20260628T120000Z
DTEND:20260628T130000Z
DTSTAMP:20260331T062734Z
SUMMARY:Patrick Galbraith Uncommon Ground: Rethinking our relationship with the countryside
X-FBF-PRICE:12.00
X-FBF-CON-PRICE:10.00
X-FBF-CHILD-PRICE:
X-FBF-EVENT-CAPACITY:110
X-FBF-BOOKING-URL:https://www.ticketsource.co.uk/booking/t-njjyrgq
DESCRIPTION:Patrick Galbraith takes us on an extraordinary tour of rural Britain\, from the Hebrides to Devon\, and from Anglo-Saxon England to the present day. To understand fully our deep connection with the land\, he meets farmers\, Irish Travellers\, politicians\, salmon poachers\, and the nation's most-hated landowners\, as well as activists calling for a total abolition of the right to own land.\nUncommon Ground argues that what matters is not greater access but how we engage with the land and demands that landowners give us more opportunities to do so\, while also giving endangered wildlife the right to tranquillity.\nIn conversation with Catherine Larner\n\n[gallery ids="14991\,15019"]
LOCATION:Harvest House\, Cobbold Road\, FELIXSTOWE\, IP11 7SP\, United Kingdom
URL:https://felixstowebookfestival.co.uk/events/patrick-galbraith-uncommon-ground-rethinking-our-relationship-with-the-countryside
END:VEVENT
END:VCALENDAR