BEGIN:VCALENDAR
VERSION:2.0
PRODID:-//wp-events-plugin.com//7.2.3.1//EN
BEGIN:VEVENT
UID:34404426-0d20-4c00-907f-07cd7dd17f6f
DTSTART:20260627T160000Z
DTEND:20260627T170000Z
DTSTAMP:20260331T062251Z
SUMMARY:Patrick Gale Love Lane
X-FBF-PRICE:12.00
X-FBF-CON-PRICE:10.00
X-FBF-CHILD-PRICE:
X-FBF-EVENT-CAPACITY:110
X-FBF-BOOKING-URL:https://www.ticketsource.co.uk/booking/t-jxxqpgq
DESCRIPTION:When A Place Called Winter’s Harry Cane returns from Canada his arrival triggers unwelcome self-examination for the family he abandoned and for whom he has never been more than a distant myth.\nCan Harry stay and make a new life before it’s too late\, or will he find himself cast out again?\n\nLove Lane is a searing portrayal of escape and entrapment\, and a powerful exploration of what home and family can really be.\n\nPatrick has written eighteen novels including Mother's Boy\, Take Nothing With You\, Rough Music\, Notes From an Exhibition\, A Perfectly Good Man and A Place Called Winter\n\nIn conversation with Catherine Larner\n\n[gallery ids="14964\,14965"]
LOCATION:Harvest House\, Cobbold Road\, FELIXSTOWE\, IP11 7SP\, United Kingdom
URL:https://felixstowebookfestival.co.uk/events/patrick-gale-love-lane
END:VEVENT
END:VCALENDAR