BEGIN:VCALENDAR
VERSION:2.0
PRODID:-//wp-events-plugin.com//7.2.3.1//EN
BEGIN:VEVENT
UID:661769fb-b7a9-48ce-9209-86a3dc379fa4
DTSTART:20220625T113000Z
DTEND:20220625T123000Z
DTSTAMP:20220420T130543Z
SUMMARY:Patrick Gale - Mother's Boy
X-FBF-PRICE:10
X-FBF-CON-PRICE:8
X-FBF-CHILD-PRICE:
X-FBF-EVENT-CAPACITY:110
X-FBF-BOOKING-URL:https://felixstowe-book-festival.netlify.app/event?event=319328
DESCRIPTION:[caption id="attachment_1688" align="alignleft" width="199"] Photo: Daniel Hall[/caption]\n\n\n\n&nbsp\;\n\n&nbsp\;\n\n&nbsp\;\n\n&nbsp\;\n\n&nbsp\;\n\n&nbsp\;\n\n&nbsp\;\n\n&nbsp\;\n\nPatrick Gale the best selling author of A Place Called Winter\, returns to Felixstowe to talk about his latest novel\, Mother’s Boy an evocative\, absorbing\, engaging historical novel of Cornwall\, class\, desire and two world wars.\n\nIn conversation with Nicola Upson\n\nSponsored by:\n\n\n\n&nbsp\;
LOCATION:Harvest House - The Palm Court Room\, Cobbold Road\, FELIXSTOWE\, IP11 7SP\, United Kingdom
URL:https://felixstowebookfestival.co.uk/events/patrick-gale-mothers-boy
END:VEVENT
END:VCALENDAR