BEGIN:VCALENDAR
VERSION:2.0
PRODID:-//wp-events-plugin.com//7.2.3.1//EN
BEGIN:VEVENT
UID:58843895-10d3-407b-a5a1-55607b276891
DTSTART:20250627T193000Z
DTEND:20250627T203000Z
DTSTAMP:20250310T172214Z
SUMMARY:Paul Armfield\, Virginia Betts and guest poets: An Evening of Poetry and Music
X-FBF-PRICE:12
X-FBF-CON-PRICE:
X-FBF-CHILD-PRICE:
X-FBF-EVENT-CAPACITY:
X-FBF-BOOKING-URL:
DESCRIPTION:Featuring singer/songwriter and self-confessed bibliophile Paul Armfield\, prolific local author Virginia Betts and guest poets.\n\nTickets £12 from www.ticketsource.co.uk/two-sisters-arts-centre
LOCATION:The Two Sisters Arts Centre\, High Road\, Trimley St Mary\, Suffolk\, IP11 0SP\, United Kingdom
URL:https://felixstowebookfestival.co.uk/events/paul-armfield-virginia-betts-and-guest-poets-an-evening-of-poetry-and-music
END:VEVENT
END:VCALENDAR