BEGIN:VCALENDAR
VERSION:2.0
PRODID:-//wp-events-plugin.com//7.2.3.1//EN
BEGIN:VEVENT
UID:3550f2dd-230a-46c4-a0d5-14ddf8f96a5b
DTSTART:20260516T093000Z
DTEND:20260516T160000Z
DTSTAMP:20260328T071450Z
SUMMARY:Pre Festival Write Away! at Hotel Coco\, Felixstowe
X-FBF-PRICE:15.00
X-FBF-CON-PRICE:
X-FBF-CHILD-PRICE:
X-FBF-EVENT-CAPACITY:20
X-FBF-BOOKING-URL:https://www.ticketsource.co.uk/felixstowebookfestival/t-jxxjdgp
DESCRIPTION:You are invited to join us for a day of workshops\, talks and a Q&amp\;A on writing and publishing hosted by the prestigious boutique Hotel Coco on Orwell Road in Felixstowe.\nThis special event is suitable for beginners and experienced writers.\nYour day will include:\nA talk on publishing and a Q&amp\;A by independent publishers Urban Pigs Press and novelist Virginia Betts.\nThere will also be Mini Writing Workshops with Orwell Writers\nPlus a Q&amp\;A on the value of belonging to a writers’ group.\nTicket price of £15 includes coffees\, teas\, biscuits throughout the day.\n\n[gallery ids="14939\,14940"]
LOCATION:Hotel Coco\, Orwell Road \, Felixstowe \, Suffolk \, IP11 7PF\, United Kingdom
URL:https://felixstowebookfestival.co.uk/events/pre-festival-write-away-at-hotel-coco-felixstowe
END:VEVENT
END:VCALENDAR