BEGIN:VCALENDAR
VERSION:2.0
PRODID:-//wp-events-plugin.com//7.2.3.1//EN
BEGIN:VEVENT
UID:cab1bf3a-3786-4e3b-87e6-df9f211065b2
DTSTART:20260627T113000Z
DTEND:20260627T123000Z
DTSTAMP:20260331T061907Z
SUMMARY:Professor Matei Candea  Reason\, Carnival and Honour
X-FBF-PRICE:12.00
X-FBF-CON-PRICE:10.00
X-FBF-CHILD-PRICE:
X-FBF-EVENT-CAPACITY:40
X-FBF-BOOKING-URL:https://www.ticketsource.co.uk/booking/t-dkkpmen
DESCRIPTION:What does free speech really mean? How does our understanding of it differ around the world? Why does it divide us – and how can we find common ground?\nArguments about free speech are not just about abstract principles: they question what it means to be a good person\, to have empathy and courage. They involve fears for the future and longings for the past – and they demand that you pick a side.\nReason\, Carnival and Honour outlines three visions of free speech – Reason\, or civil rational debate\; Carnival\, or the right to be outrageous\; and Honour\, the duty to stand by one’s word.\nBuilding on years of research and an exploration of anthropological literature from around the globe – from tales of French cartoonists to Egyptian Bedouin women\, Finnish talk-show hosts to Tibetan Buddhist monks – Reason\, Carnival and Honour reveals a richer landscape of differences\, to help us find new alliances and even answers to the question of what it is we’re really arguing about.\n\nIn conversation with Paolo Heywood\n\n[gallery ids="14975\,14976"]
LOCATION:Harvest House\, Cobbold Road\, FELIXSTOWE\, IP11 7SP\, United Kingdom
URL:https://felixstowebookfestival.co.uk/events/professor-matei-candea-reason-carnival-and-honour
END:VEVENT
END:VCALENDAR